BEGIN:VCALENDAR
VERSION:2.0
PRODID:-//Łódzka Szkoła Nowej Ewangelizacji - ECPv4.3.3//NONSGML v1.0//EN
CALSCALE:GREGORIAN
METHOD:PUBLISH
X-WR-CALNAME:Łódzka Szkoła Nowej Ewangelizacji
X-ORIGINAL-URL:https://snelodz.pl
X-WR-CALDESC:Events for Łódzka Szkoła Nowej Ewangelizacji
BEGIN:VEVENT
DTSTART;TZID=Europe/Warsaw:20161216T170000
DTEND;TZID=Europe/Warsaw:20161218T130000
DTSTAMP:20260423T085327
CREATED:20161202T123727Z
LAST-MODIFIED:20161203T111747Z
UID:4739-1481907600-1482066000@snelodz.pl
SUMMARY:Kurs EMAUS
DESCRIPTION:\n\n \nJeśli odkryłeś Biblię i pragniesz ją nie tylko czytać\, ale i rozumieć\, przyłącz się do uczniów podążających z Jerozolimy do Emaus. To do nich dołącza się Nieznajomy\, który w drodze wyjaśnia im Pisma. Nalegają\, by pozostał z nimi. Poznanie Pisma doprowadza ich do poznania Jezusa. On sam zaprasza Ciebie do tego samego! Pragnie\, by i Twoje serce pałało miłością do Słowa Bożego\, byś poznając Je i Nim się karmiąc nawiązywał głębszą relację z Jezusem – Słowem. \n[vc_row_inner el_class="align-center" css=".vc_custom_1448380443865{padding-top: 20px !important;}"][vc_column_inner][lab_button title="ZAPISZ SIĘ NA KURS" type="standard" size="btn-large" link="url:index.php%2Fzapisy%2F|title:Zapisz%20si%C4%99||" css=".vc_custom_1480615143109{margin-top: 0px !important;margin-bottom: 0px !important;}"][/vc_column_inner][/vc_row_inner]\n\n\n\n\n\n\n\n\n 
URL:https://snelodz.pl/event/kurs-emaus-16-18-12-16-pkow/
LOCATION:Rycerska 3\, Piotrków Trybunalski\, Łódzkie\, 97-300\, Polska
CATEGORIES:KURSY
ORGANIZER;CN="LSNE":MAILTO:kontakt@snelodz.pl
END:VEVENT
END:VCALENDAR