BEGIN:VCALENDAR
VERSION:2.0
PRODID:-//Łódzka Szkoła Nowej Ewangelizacji - ECPv4.3.3//NONSGML v1.0//EN
CALSCALE:GREGORIAN
METHOD:PUBLISH
X-WR-CALNAME:Łódzka Szkoła Nowej Ewangelizacji
X-ORIGINAL-URL:https://snelodz.pl
X-WR-CALDESC:Events for Łódzka Szkoła Nowej Ewangelizacji
BEGIN:VEVENT
DTSTART;TZID=Europe/Warsaw:20170113T180000
DTEND;TZID=Europe/Warsaw:20170115T130000
DTSTAMP:20260421T135447
CREATED:20161204T133802Z
LAST-MODIFIED:20170103T183244Z
UID:4775-1484330400-1484485200@snelodz.pl
SUMMARY:WSPÓLNA DROGA
DESCRIPTION:\n\n\n\n\n\n\n\n\n\n\n\n\n\n\n\n\n\n\n\nKurs Wspólna Droga pomaga odbudować jedność w życiu małżeńskim przez odnowienie dialogu\, by na nowo chcieć się nie tylko słuchać\, ale przede wszystkim rozumieć. Jeśli wasze małżeństwo przeżywa chwile ciszy i oddalenia od siebie – nie czekajcie na śmierć jedności\, lecz podejmijcie wspólne odbudowanie więzi i przyjedźcie na kurs.\nWażne informacje:\n- Podczas kursu zapewniamy opiekę dla Waszych dzieci.\n- Liczba miejsc jest ograniczona do 9-ciu par\n\n[vc_row_inner el_class="align-center" css=".vc_custom_1448380443865{padding-top: 20px !important;}"][vc_column_inner][lab_button title="ZAPISZ SIĘ NA KURS" type="standard" size="btn-large" link="url:http%3A%2F%2Fsnelodz.pl%2Fzapisy%2Fwspolna-droga-13-15-01-17%2F|title:Zapisz%20si%C4%99||" css=".vc_custom_1482530210367{margin-top: 0px !important;margin-bottom: 0px !important;}"][/vc_column_inner][/vc_row_inner]\n\n\n\n\n 
URL:https://snelodz.pl/event/wspolna-droga/
LOCATION:Rycerska 3\, Piotrków Trybunalski\, Łódzkie\, 97-300\, Polska
CATEGORIES:KURSY
ORGANIZER;CN="LSNE":MAILTO:kontakt@snelodz.pl
END:VEVENT
END:VCALENDAR